Package: fobitools Version: 1.17.0 Command: /Library/Frameworks/R.framework/Resources/bin/R CMD INSTALL fobitools StartedAt: 2025-10-24 15:08:27 -0400 (Fri, 24 Oct 2025) EndedAt: 2025-10-24 15:08:34 -0400 (Fri, 24 Oct 2025) EllapsedTime: 7.6 seconds RetCode: 0 Status: OK