Package: flowcatchR Version: 1.43.0 Command: /home/biocbuild/bbs-3.22-bioc/R/bin/R CMD INSTALL flowcatchR StartedAt: 2025-10-24 15:25:30 -0400 (Fri, 24 Oct 2025) EndedAt: 2025-10-24 15:25:39 -0400 (Fri, 24 Oct 2025) EllapsedTime: 9.4 seconds RetCode: 0 Status: OK