Package: flowcatchR Version: 1.44.0 Command: /Library/Frameworks/R.framework/Resources/bin/R CMD INSTALL flowcatchR StartedAt: 2025-11-10 15:10:22 -0500 (Mon, 10 Nov 2025) EndedAt: 2025-11-10 15:10:26 -0500 (Mon, 10 Nov 2025) EllapsedTime: 3.9 seconds RetCode: 0 Status: OK