Package: flowcatchR Version: 1.44.0 Command: /Library/Frameworks/R.framework/Resources/bin/R CMD build --keep-empty-dirs --no-resave-data flowcatchR StartedAt: 2025-11-10 16:24:43 -0500 (Mon, 10 Nov 2025) EndedAt: 2025-11-10 16:25:01 -0500 (Mon, 10 Nov 2025) EllapsedTime: 18.2 seconds RetCode: 0 Status: OK PackageFile: flowcatchR_1.44.0.tar.gz PackageFileSize: 6.849 MiB