Package: flowWorkspace Version: 4.21.0 Command: /home/biocbuild/R/R/bin/R CMD build --keep-empty-dirs --no-resave-data flowWorkspace StartedAt: 2025-10-20 23:50:41 -0000 (Mon, 20 Oct 2025) EndedAt: 2025-10-20 23:54:41 -0000 (Mon, 20 Oct 2025) EllapsedTime: 240.1 seconds RetCode: 0 Status: OK PackageFile: flowWorkspace_4.21.0.tar.gz PackageFileSize: 4.131 MiB