Package: flowWorkspace Version: 4.21.0 Command: /home/biocbuild/bbs-3.22-bioc/R/bin/R CMD check --install=check:flowWorkspace.install-out.txt --library=/home/biocbuild/bbs-3.22-bioc/R/site-library --timings flowWorkspace_4.21.0.tar.gz StartedAt: 2025-10-24 23:48:20 -0400 (Fri, 24 Oct 2025) EndedAt: 2025-10-24 23:51:47 -0400 (Fri, 24 Oct 2025) EllapsedTime: 207.3 seconds RetCode: 0 Status: WARNINGS CheckDir: flowWorkspace.Rcheck Warnings: 5