Package: flowWorkspace Version: 4.21.0 Command: /Library/Frameworks/R.framework/Resources/bin/R CMD INSTALL flowWorkspace StartedAt: 2025-10-24 15:28:02 -0400 (Fri, 24 Oct 2025) EndedAt: 2025-10-24 15:30:20 -0400 (Fri, 24 Oct 2025) EllapsedTime: 138.0 seconds RetCode: 0 Status: OK