Package: flowWorkspace Version: 4.21.0 Command: /Library/Frameworks/R.framework/Resources/bin/R CMD INSTALL flowWorkspace StartedAt: 2025-10-24 15:11:06 -0400 (Fri, 24 Oct 2025) EndedAt: 2025-10-24 15:11:40 -0400 (Fri, 24 Oct 2025) EllapsedTime: 34.6 seconds RetCode: 0 Status: OK