Package: flowViz Version: 1.73.0 Command: /home/biocbuild/bbs-3.22-bioc/R/bin/R CMD INSTALL flowViz StartedAt: 2025-10-27 15:16:00 -0400 (Mon, 27 Oct 2025) EndedAt: 2025-10-27 15:16:12 -0400 (Mon, 27 Oct 2025) EllapsedTime: 11.6 seconds RetCode: 0 Status: OK