Package: flowVS Version: 1.41.0 Command: /home/biocbuild/bbs-3.22-bioc/R/bin/R CMD INSTALL flowVS StartedAt: 2025-10-24 15:45:45 -0400 (Fri, 24 Oct 2025) EndedAt: 2025-10-24 15:46:01 -0400 (Fri, 24 Oct 2025) EllapsedTime: 16.3 seconds RetCode: 0 Status: OK