Package: flowTrans Version: 1.62.0 Command: /Library/Frameworks/R.framework/Resources/bin/R CMD INSTALL flowTrans StartedAt: 2025-11-02 15:27:42 -0500 (Sun, 02 Nov 2025) EndedAt: 2025-11-02 15:27:54 -0500 (Sun, 02 Nov 2025) EllapsedTime: 12.0 seconds RetCode: 0 Status: OK