Package: flowTrans Version: 1.62.0 Command: /Library/Frameworks/R.framework/Resources/bin/R CMD build --keep-empty-dirs --no-resave-data flowTrans StartedAt: 2025-11-02 17:07:38 -0500 (Sun, 02 Nov 2025) EndedAt: 2025-11-02 17:08:06 -0500 (Sun, 02 Nov 2025) EllapsedTime: 28.5 seconds RetCode: 0 Status: OK PackageFile: flowTrans_1.62.0.tar.gz PackageFileSize: 480.2 KiB