Package: flowTrans Version: 1.61.0 Command: /Library/Frameworks/R.framework/Resources/bin/R CMD build --keep-empty-dirs --no-resave-data flowTrans StartedAt: 2025-10-24 16:28:12 -0400 (Fri, 24 Oct 2025) EndedAt: 2025-10-24 16:28:22 -0400 (Fri, 24 Oct 2025) EllapsedTime: 10.1 seconds RetCode: 0 Status: OK PackageFile: flowTrans_1.61.0.tar.gz PackageFileSize: 480.4 KiB