Package: flowTrans Version: 1.61.0 Command: rm -rf flowTrans.buildbin-libdir && mkdir flowTrans.buildbin-libdir && /Users/biocbuild/BBS/utils/build-universal.sh flowTrans_1.61.0.tar.gz /Library/Frameworks/R.framework/Resources/bin/R flowTrans.buildbin-libdir StartedAt: 2025-10-24 23:03:17 -0400 (Fri, 24 Oct 2025) EndedAt: 2025-10-24 23:03:21 -0400 (Fri, 24 Oct 2025) EllapsedTime: 4.1 seconds RetCode: 0 Status: OK PackageFile: flowTrans_1.61.0.tgz PackageFileSize: 524 KiB