Package: flowTrans Version: 1.62.0 Maintainer: Greg Finak MaintainerEmail: gfinak at fredhutch.org git_url: https://git.bioconductor.org/packages/flowTrans git_branch: RELEASE_3_22 git_last_commit: 0a2fdd0 git_last_commit_date: 2025-10-29 10:05:05 -0400 (Wed, 29 Oct 2025)