Package: flowTime Version: 1.34.0 Command: /Library/Frameworks/R.framework/Resources/bin/R CMD INSTALL flowTime StartedAt: 2025-10-30 15:07:11 -0400 (Thu, 30 Oct 2025) EndedAt: 2025-10-30 15:07:15 -0400 (Thu, 30 Oct 2025) EllapsedTime: 3.9 seconds RetCode: 0 Status: OK