Package: flowTime Version: 1.34.0 Command: rm -rf flowTime.buildbin-libdir && mkdir flowTime.buildbin-libdir && /Users/biocbuild/BBS/utils/build-universal.sh flowTime_1.34.0.tar.gz /Library/Frameworks/R.framework/Resources/bin/R flowTime.buildbin-libdir StartedAt: 2025-10-31 23:07:21 -0400 (Fri, 31 Oct 2025) EndedAt: 2025-10-31 23:07:25 -0400 (Fri, 31 Oct 2025) EllapsedTime: 4.1 seconds RetCode: 0 Status: OK PackageFile: flowTime_1.34.0.tgz PackageFileSize: 2.682 MiB