Package: flowStats Version: 4.22.0 Command: /Library/Frameworks/R.framework/Resources/bin/R CMD INSTALL flowStats StartedAt: 2025-10-31 15:13:52 -0400 (Fri, 31 Oct 2025) EndedAt: 2025-10-31 15:14:02 -0400 (Fri, 31 Oct 2025) EllapsedTime: 10.5 seconds RetCode: 0 Status: OK