Package: flowStats Version: 4.22.0 Command: /Library/Frameworks/R.framework/Resources/bin/R CMD build --keep-empty-dirs --no-resave-data flowStats StartedAt: 2025-10-31 16:29:42 -0400 (Fri, 31 Oct 2025) EndedAt: 2025-10-31 16:30:24 -0400 (Fri, 31 Oct 2025) EllapsedTime: 41.5 seconds RetCode: 0 Status: OK PackageFile: flowStats_4.22.0.tar.gz PackageFileSize: 10.97 MiB