Package: flowPlots Version: 1.57.0 Command: /home/biocbuild/bbs-3.22-bioc/R/bin/R CMD INSTALL flowPlots StartedAt: 2025-10-24 15:13:11 -0400 (Fri, 24 Oct 2025) EndedAt: 2025-10-24 15:13:22 -0400 (Fri, 24 Oct 2025) EllapsedTime: 11.1 seconds RetCode: 0 Status: OK