Package: flowPlots Version: 1.57.0 Command: /home/biocbuild/bbs-3.22-bioc/R/bin/R CMD build --keep-empty-dirs --no-resave-data --md5 flowPlots StartedAt: 2025-10-27 17:41:41 -0400 (Mon, 27 Oct 2025) EndedAt: 2025-10-27 17:41:52 -0400 (Mon, 27 Oct 2025) EllapsedTime: 11.0 seconds RetCode: 0 Status: OK PackageFile: flowPlots_1.57.0.tar.gz PackageFileSize: 636.5 KiB