Package: flowPloidy Version: 1.35.0 Command: /home/biocbuild/bbs-3.22-bioc/R/bin/R CMD build --keep-empty-dirs --no-resave-data --md5 flowPloidy StartedAt: 2025-10-24 17:50:34 -0400 (Fri, 24 Oct 2025) EndedAt: 2025-10-24 17:50:59 -0400 (Fri, 24 Oct 2025) EllapsedTime: 25.1 seconds RetCode: 0 Status: OK PackageFile: flowPloidy_1.35.0.tar.gz PackageFileSize: 2.334 MiB