Package: flowPeaks Version: 1.55.0 Command: /home/biocbuild/bbs-3.22-bioc/R/bin/R CMD INSTALL flowPeaks StartedAt: 2025-10-27 15:04:07 -0400 (Mon, 27 Oct 2025) EndedAt: 2025-10-27 15:04:24 -0400 (Mon, 27 Oct 2025) EllapsedTime: 16.8 seconds RetCode: 0 Status: OK