Package: flowMerge Version: 2.57.0 Command: /home/biocbuild/bbs-3.22-bioc/R/bin/R CMD build --keep-empty-dirs --no-resave-data --md5 flowMerge StartedAt: 2025-10-24 17:50:15 -0400 (Fri, 24 Oct 2025) EndedAt: 2025-10-24 17:50:54 -0400 (Fri, 24 Oct 2025) EllapsedTime: 39.1 seconds RetCode: 0 Status: OK PackageFile: flowMerge_2.57.0.tar.gz PackageFileSize: 597.3 KiB