Package: flowMerge Version: 2.57.0 Command: /Library/Frameworks/R.framework/Resources/bin/R CMD INSTALL flowMerge StartedAt: 2025-10-24 15:31:29 -0400 (Fri, 24 Oct 2025) EndedAt: 2025-10-24 15:31:38 -0400 (Fri, 24 Oct 2025) EllapsedTime: 8.4 seconds RetCode: 0 Status: OK