Package: flowMeans Version: 1.70.0 Command: /Library/Frameworks/R.framework/Resources/bin/R CMD INSTALL flowMeans StartedAt: 2025-11-10 15:07:19 -0500 (Mon, 10 Nov 2025) EndedAt: 2025-11-10 15:07:26 -0500 (Mon, 10 Nov 2025) EllapsedTime: 7.3 seconds RetCode: 0 Status: OK