Package: flowMeans Version: 1.70.0 Command: /Library/Frameworks/R.framework/Resources/bin/R CMD build --keep-empty-dirs --no-resave-data flowMeans StartedAt: 2025-11-10 16:25:32 -0500 (Mon, 10 Nov 2025) EndedAt: 2025-11-10 16:25:45 -0500 (Mon, 10 Nov 2025) EllapsedTime: 13.1 seconds RetCode: 0 Status: OK PackageFile: flowMeans_1.70.0.tar.gz PackageFileSize: 3.284 MiB