Package: flowMeans Version: 1.70.0 Command: rm -rf flowMeans.buildbin-libdir && mkdir flowMeans.buildbin-libdir && /Users/biocbuild/BBS/utils/build-universal.sh flowMeans_1.70.0.tar.gz /Library/Frameworks/R.framework/Resources/bin/R flowMeans.buildbin-libdir StartedAt: 2025-11-10 23:20:18 -0500 (Mon, 10 Nov 2025) EndedAt: 2025-11-10 23:20:28 -0500 (Mon, 10 Nov 2025) EllapsedTime: 9.2 seconds RetCode: 0 Status: OK PackageFile: flowMeans_1.70.0.tgz PackageFileSize: 3.544 MiB