Package: flowGraph Version: 1.17.0 Command: /home/biocbuild/bbs-3.22-bioc/R/bin/R CMD INSTALL flowGraph StartedAt: 2025-10-24 15:20:57 -0400 (Fri, 24 Oct 2025) EndedAt: 2025-10-24 15:21:18 -0400 (Fri, 24 Oct 2025) EllapsedTime: 20.8 seconds RetCode: 0 Status: OK