Package: flowGraph Version: 1.17.0 Command: /Library/Frameworks/R.framework/Resources/bin/R CMD build --keep-empty-dirs --no-resave-data flowGraph StartedAt: 2025-10-24 17:07:07 -0400 (Fri, 24 Oct 2025) EndedAt: 2025-10-24 17:08:00 -0400 (Fri, 24 Oct 2025) EllapsedTime: 52.7 seconds RetCode: 0 Status: OK PackageFile: flowGraph_1.17.0.tar.gz PackageFileSize: 2.221 MiB