Package: flowGraph Version: 1.17.0 Command: /Library/Frameworks/R.framework/Resources/bin/R CMD INSTALL flowGraph StartedAt: 2025-10-24 15:08:33 -0400 (Fri, 24 Oct 2025) EndedAt: 2025-10-24 15:08:39 -0400 (Fri, 24 Oct 2025) EllapsedTime: 5.8 seconds RetCode: 0 Status: OK