Package: flowGraph Version: 1.17.0 Command: rm -rf flowGraph.buildbin-libdir && mkdir flowGraph.buildbin-libdir && /Users/biocbuild/BBS/utils/build-universal.sh flowGraph_1.17.0.tar.gz /Library/Frameworks/R.framework/Resources/bin/R flowGraph.buildbin-libdir StartedAt: 2025-10-24 23:03:11 -0400 (Fri, 24 Oct 2025) EndedAt: 2025-10-24 23:03:17 -0400 (Fri, 24 Oct 2025) EllapsedTime: 6.1 seconds RetCode: 0 Status: OK PackageFile: flowGraph_1.17.0.tgz PackageFileSize: 2.602 MiB