Package: flowGraph Version: 1.17.0 Maintainer: Alice Yue MaintainerEmail: aya43 at sfu.ca git_url: https://git.bioconductor.org/packages/flowGraph git_branch: devel git_last_commit: 16b2487 git_last_commit_date: 2025-04-15 12:15:54 -0400 (Tue, 15 Apr 2025)