Package: flowGate Version: 1.9.0 Command: /home/biocbuild/bbs-3.22-bioc/R/bin/R CMD INSTALL flowGate StartedAt: 2025-10-24 15:44:27 -0400 (Fri, 24 Oct 2025) EndedAt: 2025-10-24 15:44:41 -0400 (Fri, 24 Oct 2025) EllapsedTime: 14.2 seconds RetCode: 0 Status: OK