Package: flowFP Version: 1.68.0 Command: /Library/Frameworks/R.framework/Resources/bin/R CMD INSTALL flowFP StartedAt: 2025-11-10 15:07:31 -0500 (Mon, 10 Nov 2025) EndedAt: 2025-11-10 15:07:36 -0500 (Mon, 10 Nov 2025) EllapsedTime: 5.7 seconds RetCode: 0 Status: OK