Package: flowFP Version: 1.68.0 Command: /Library/Frameworks/R.framework/Resources/bin/R CMD build --keep-empty-dirs --no-resave-data flowFP StartedAt: 2025-11-10 16:25:17 -0500 (Mon, 10 Nov 2025) EndedAt: 2025-11-10 16:25:33 -0500 (Mon, 10 Nov 2025) EllapsedTime: 16.2 seconds RetCode: 0 Status: OK PackageFile: flowFP_1.68.0.tar.gz PackageFileSize: 5.128 MiB