Package: flowDensity Version: 1.43.0 Command: /home/biocbuild/bbs-3.22-bioc/R/bin/R CMD build --keep-empty-dirs --no-resave-data --md5 flowDensity StartedAt: 2025-10-24 17:49:51 -0400 (Fri, 24 Oct 2025) EndedAt: 2025-10-24 17:49:52 -0400 (Fri, 24 Oct 2025) EllapsedTime: 1.0 seconds RetCode: 0 Status: OK PackageFile: flowDensity_1.43.0.tar.gz PackageFileSize: 4.296 MiB