Package: flowDensity Version: 1.43.0 Command: /Library/Frameworks/R.framework/Resources/bin/R CMD INSTALL flowDensity StartedAt: 2025-10-27 15:07:18 -0400 (Mon, 27 Oct 2025) EndedAt: 2025-10-27 15:07:22 -0400 (Mon, 27 Oct 2025) EllapsedTime: 3.9 seconds RetCode: 0 Status: OK