Package: flowDensity Version: 1.43.0 Command: /Library/Frameworks/R.framework/Resources/bin/R CMD build --keep-empty-dirs --no-resave-data flowDensity StartedAt: 2025-10-26 16:30:21 -0400 (Sun, 26 Oct 2025) EndedAt: 2025-10-26 16:30:22 -0400 (Sun, 26 Oct 2025) EllapsedTime: 1.0 seconds RetCode: 0 Status: OK PackageFile: flowDensity_1.43.0.tar.gz PackageFileSize: 4.295 MiB