Package: flowCyBar Version: 1.45.0 Command: /home/biocbuild/bbs-3.22-bioc/R/bin/R CMD INSTALL flowCyBar StartedAt: 2025-10-27 15:08:32 -0400 (Mon, 27 Oct 2025) EndedAt: 2025-10-27 15:09:12 -0400 (Mon, 27 Oct 2025) EllapsedTime: 39.9 seconds RetCode: 0 Status: OK