Package: flowCyBar Version: 1.45.0 Command: /home/biocbuild/bbs-3.22-bioc/R/bin/R CMD build --keep-empty-dirs --no-resave-data --md5 flowCyBar StartedAt: 2025-10-27 17:40:55 -0400 (Mon, 27 Oct 2025) EndedAt: 2025-10-27 17:41:11 -0400 (Mon, 27 Oct 2025) EllapsedTime: 16.0 seconds RetCode: 0 Status: OK PackageFile: flowCyBar_1.45.0.tar.gz PackageFileSize: 508.7 KiB