Package: flowCore Version: 2.21.0 Command: /Library/Frameworks/R.framework/Resources/bin/R CMD build --keep-empty-dirs --no-resave-data flowCore StartedAt: 2025-10-24 17:06:48 -0400 (Fri, 24 Oct 2025) EndedAt: 2025-10-24 17:08:29 -0400 (Fri, 24 Oct 2025) EllapsedTime: 100.7 seconds RetCode: 0 Status: OK PackageFile: flowCore_2.21.0.tar.gz PackageFileSize: 7.449 MiB