Package: flowClust Version: 3.48.0 Command: /Library/Frameworks/R.framework/Resources/bin/R CMD build --keep-empty-dirs --no-resave-data flowClust StartedAt: 2025-11-10 16:24:53 -0500 (Mon, 10 Nov 2025) EndedAt: 2025-11-10 16:26:01 -0500 (Mon, 10 Nov 2025) EllapsedTime: 67.7 seconds RetCode: 0 Status: OK PackageFile: flowClust_3.48.0.tar.gz PackageFileSize: 1.766 MiB