Package: flowClean Version: 1.47.0 Command: /home/biocbuild/bbs-3.22-bioc/R/bin/R CMD INSTALL flowClean StartedAt: 2025-10-24 15:24:13 -0400 (Fri, 24 Oct 2025) EndedAt: 2025-10-24 15:24:20 -0400 (Fri, 24 Oct 2025) EllapsedTime: 7.1 seconds RetCode: 0 Status: OK