Package: flowClean Version: 1.48.0 Command: /Library/Frameworks/R.framework/Resources/bin/R CMD INSTALL flowClean StartedAt: 2025-11-03 15:20:17 -0500 (Mon, 03 Nov 2025) EndedAt: 2025-11-03 15:20:33 -0500 (Mon, 03 Nov 2025) EllapsedTime: 16.1 seconds RetCode: 0 Status: OK