Package: flowClean Version: 1.47.0 Command: /Library/Frameworks/R.framework/Resources/bin/R CMD build --keep-empty-dirs --no-resave-data flowClean StartedAt: 2025-10-28 16:24:41 -0400 (Tue, 28 Oct 2025) EndedAt: 2025-10-28 16:24:56 -0400 (Tue, 28 Oct 2025) EllapsedTime: 15.2 seconds RetCode: 0 Status: OK PackageFile: flowClean_1.47.0.tar.gz PackageFileSize: 4.924 MiB