Package: flowBin Version: 1.45.0 Command: /home/biocbuild/bbs-3.22-bioc/R/bin/R CMD INSTALL flowBin StartedAt: 2025-10-27 15:16:26 -0400 (Mon, 27 Oct 2025) EndedAt: 2025-10-27 15:16:35 -0400 (Mon, 27 Oct 2025) EllapsedTime: 9.0 seconds RetCode: 0 Status: OK