Package: flowBeads Version: 1.48.0 Command: /home/biocbuild/bbs-3.22-bioc/R/bin/R CMD INSTALL flowBeads StartedAt: 2025-11-03 15:39:35 -0500 (Mon, 03 Nov 2025) EndedAt: 2025-11-03 15:39:44 -0500 (Mon, 03 Nov 2025) EllapsedTime: 9.1 seconds RetCode: 0 Status: OK