Package: flowAI Version: 1.39.0 Command: /home/biocbuild/bbs-3.22-bioc/R/bin/R CMD INSTALL flowAI StartedAt: 2025-10-24 15:24:23 -0400 (Fri, 24 Oct 2025) EndedAt: 2025-10-24 15:24:33 -0400 (Fri, 24 Oct 2025) EllapsedTime: 9.7 seconds RetCode: 0 Status: OK