Package: flowAI Version: 1.39.0 Command: /Library/Frameworks/R.framework/Resources/bin/R CMD INSTALL flowAI StartedAt: 2025-10-27 15:13:55 -0400 (Mon, 27 Oct 2025) EndedAt: 2025-10-27 15:14:15 -0400 (Mon, 27 Oct 2025) EllapsedTime: 20.3 seconds RetCode: 0 Status: OK